BEGIN:VCALENDAR
VERSION:2.0
PRODID:-//COMTEÚDO - ECPv5.9.1//NONSGML v1.0//EN
CALSCALE:GREGORIAN
METHOD:PUBLISH
X-WR-CALNAME:COMTEÚDO
X-ORIGINAL-URL:https://comteudo.webtexto.pt
X-WR-CALDESC:Events for COMTEÚDO
BEGIN:VTIMEZONE
TZID:Europe/Lisbon
BEGIN:DAYLIGHT
TZOFFSETFROM:+0000
TZOFFSETTO:+0100
TZNAME:WEST
DTSTART:20220327T010000
END:DAYLIGHT
BEGIN:STANDARD
TZOFFSETFROM:+0100
TZOFFSETTO:+0000
TZNAME:WET
DTSTART:20221030T010000
END:STANDARD
END:VTIMEZONE
BEGIN:VEVENT
DTSTART;VALUE=DATE:20221101
DTEND;VALUE=DATE:20221105
DTSTAMP:20260424T170630
CREATED:20220916T091237Z
LAST-MODIFIED:20220916T091237Z
UID:11699-1667260800-1667606399@comteudo.webtexto.pt
SUMMARY:Web Summit 2022
DESCRIPTION:O Web Summit está de volta à Altice Arena. A maior conferência de tecnologia do planeta regressa dia 1 de novembro de 2022\, com convidados de luxo como já nos habituou.
URL:https://comteudo.webtexto.pt/evento/web-summit-2022/
LOCATION:Altice Arena\, Rossio dos Olivais\, Lisboa\, Lisboa\, 1990-231\, Portugal
CATEGORIES:Tecnologia
ATTACH;FMTTYPE=image/jpeg:https://comteudo.webtexto.pt/wp-content/uploads/2022/09/web-summit-2022.jpeg
END:VEVENT
END:VCALENDAR